BEGIN:VCALENDAR
VERSION:2.0
PRODID:-//Shuswap PeaceBuilders - ECPv6.15.13.1//NONSGML v1.0//EN
CALSCALE:GREGORIAN
METHOD:PUBLISH
X-ORIGINAL-URL:https://www.peacebuilders.world
X-WR-CALDESC:Events for Shuswap PeaceBuilders
REFRESH-INTERVAL;VALUE=DURATION:PT1H
X-Robots-Tag:noindex
X-PUBLISHED-TTL:PT1H
BEGIN:VTIMEZONE
TZID:America/Halifax
BEGIN:DAYLIGHT
TZOFFSETFROM:-0400
TZOFFSETTO:-0300
TZNAME:ADT
DTSTART:20250309T060000
END:DAYLIGHT
BEGIN:STANDARD
TZOFFSETFROM:-0300
TZOFFSETTO:-0400
TZNAME:AST
DTSTART:20251102T050000
END:STANDARD
BEGIN:DAYLIGHT
TZOFFSETFROM:-0400
TZOFFSETTO:-0300
TZNAME:ADT
DTSTART:20260308T060000
END:DAYLIGHT
BEGIN:STANDARD
TZOFFSETFROM:-0300
TZOFFSETTO:-0400
TZNAME:AST
DTSTART:20261101T050000
END:STANDARD
BEGIN:DAYLIGHT
TZOFFSETFROM:-0400
TZOFFSETTO:-0300
TZNAME:ADT
DTSTART:20270314T060000
END:DAYLIGHT
BEGIN:STANDARD
TZOFFSETFROM:-0300
TZOFFSETTO:-0400
TZNAME:AST
DTSTART:20271107T050000
END:STANDARD
END:VTIMEZONE
BEGIN:VEVENT
DTSTART;TZID=America/Halifax:20260919T090000
DTEND;TZID=America/Halifax:20260919T150000
DTSTAMP:20260412T224616
CREATED:20260109T230717Z
LAST-MODIFIED:20260401T204456Z
UID:1999-1789808400-1789830000@www.peacebuilders.world
SUMMARY:2026 Community Peace Builder Gathering
DESCRIPTION:Mark your calendar for 2026 September 19th for a fun filled informative Community Peace Building Event. \nAdmission: you are requested to bring a person from a different social community with you + donation \n \nProgramme: \n\nGreeting\, Blessings\, Acknowledgement\nStory Telling (active workshop led by Kenthen Thomas)\nSacred Circles: pick one of 8 facilitated roundtable breakout subjects:  * All my relations (indigenous) * Economically Displaced & Socialliy Isolated (homeless) * Energy Jobs & Environment (climate) * Food Security * Sexual Identity * Mental health & Addiction * Immigration & Racism * Children & Youth\nStory Making (active workshop led by Kenthen Thomas)\nDrumming & Singing Closing Remarks\n\nIncluded:  \n* Lunch * Art Display & Voting * Community Service Displays * Children’s Program \nAdditional Program Information \nFamily Programme for kids of all ages\n \n\nPeace Bubbles\nPeace Art Projects\nVirtues Project\n\nCommunity Service Organizations\nCommunity Service Organizations that work enhance Positive Peace or Harmony in our communities are invited to present their table top information booths.  For guidelines\, orientation\, and registration please complete the Community Service Organization Registration form Here. \nSponsorship Opportunities\nWant to help make this a success with either volunteer\, financial\, or other forms of support please contact us at peacebuilderworld@gmail.com. \n  \nFor more info call Mike 250-833-6158
URL:https://www.peacebuilders.world/event/2026-community-peace-builder-gathering/
LOCATION:Splatsin Community Centre\, 5767 Old Vernon Road\, Enderby\, BC\, V0E1V0\, Canada
ORGANIZER;CN="Mike":MAILTO:peacebuilderworld@gmail.com
END:VEVENT
END:VCALENDAR