BEGIN:VCALENDAR
VERSION:2.0
PRODID:-//Shuswap PeaceBuilders - ECPv6.15.13.1//NONSGML v1.0//EN
CALSCALE:GREGORIAN
METHOD:PUBLISH
X-WR-CALNAME:Shuswap PeaceBuilders
X-ORIGINAL-URL:https://www.peacebuilders.world
X-WR-CALDESC:Events for Shuswap PeaceBuilders
REFRESH-INTERVAL;VALUE=DURATION:PT1H
X-Robots-Tag:noindex
X-PUBLISHED-TTL:PT1H
BEGIN:VTIMEZONE
TZID:America/Vancouver
BEGIN:DAYLIGHT
TZOFFSETFROM:-0800
TZOFFSETTO:-0700
TZNAME:PDT
DTSTART:20250309T100000
END:DAYLIGHT
BEGIN:STANDARD
TZOFFSETFROM:-0700
TZOFFSETTO:-0800
TZNAME:PST
DTSTART:20251102T090000
END:STANDARD
BEGIN:DAYLIGHT
TZOFFSETFROM:-0800
TZOFFSETTO:-0700
TZNAME:PDT
DTSTART:20260308T100000
END:DAYLIGHT
BEGIN:STANDARD
TZOFFSETFROM:-0700
TZOFFSETTO:-0800
TZNAME:PST
DTSTART:20261101T090000
END:STANDARD
BEGIN:DAYLIGHT
TZOFFSETFROM:-0800
TZOFFSETTO:-0700
TZNAME:PDT
DTSTART:20270314T100000
END:DAYLIGHT
BEGIN:STANDARD
TZOFFSETFROM:-0700
TZOFFSETTO:-0800
TZNAME:PST
DTSTART:20271107T090000
END:STANDARD
END:VTIMEZONE
BEGIN:VEVENT
DTSTART;TZID=America/Vancouver:20260116T173000
DTEND;TZID=America/Vancouver:20260116T200000
DTSTAMP:20260418T225154
CREATED:20260109T222815Z
LAST-MODIFIED:20260123T060332Z
UID:1978-1768584600-1768593600@www.peacebuilders.world
SUMMARY:EDSI (Economically Displaced Socially Isolated) Syndrome\, with Dan Meakes
DESCRIPTION:Peace ‘n Pizza Agenda: \nCurious\, Kind\, Respect\, Listen to Deeply Understand: Welcome to Humanity \n5:30 – 6:20 Gather & Socialize & Eat Pizza\, Veggies & Salads (All diets accommodated) \n6:20 – 6:40 Introductions & World View sharing \n6:40 – 7:40 Speaker Story – World View Fireside \n7:40 – 7:55 Questions & Answers \n7:55 – 8:00 Call to Action \n8:00            Cleanup (please help) \nGathering: \nUpon arrival everyone needs to find somebody they don’t already know and exchange ideas on “Peace to me is…” and an “Ideal Future” looks like for the world\, what do I “appreciate and gives me hope” while sharing a meal together\, \nRemember be curious\, be kind\, be respectful\, listen to deeply understand. \nIf you have a question or difficulty please see a greeter wearing a greeter nametag. \nEat in the large meeting room: \n\nPizza\, Salad & Fun Food for all dietary needs + Water / Tea / Coffee + Fun & Laughter\n\n\nIntroductions & World View Sharing in the Nexus: \n\nWelcome\, Introductions\, Guidelines – curious\, respect\, listen to deeply understand\nLand Acknowledgement & Blessings\nAcknowledge Sponsors\nMeditation\nParticipants are invited to the microphone to share their experience of Peace N Pizza\nExpression of gratitude.\n\nSpeaker Story – World View Fireside \n\nDan Meakes & Mike share world views and facilitate a discussion about EDSI (Economically Displaced Socially Isolated) Syndrome\, what is it and what can WE do about it?\n\nQuestions & Answers \n\nHow can we help you realize your vision of the future?\n\nCall to Action \n\nPractice what you learned here today with strangers\, friends\, & family\nUpcoming Events\nPlease help Clean Up\nBe Kind\n\nMark Your Calendar Upcoming Events \nPeace N Pizza: 2026 February 20th: From Scottish Warrior to Man of Peace with Stewart Johnson \nPeace N Pizza: 2026 March 20th: China\, what is it really all about? with TBD \nPeace N Pizza: 2026 April 17th: TBD \n 
URL:https://www.peacebuilders.world/event/edsi-economically-displaced-socially-isolated-syndrome-with-dan-meakes/
LOCATION:First Community Nexus\, 450 Okanagan Ave SE\, Salmon Arm\, BC\, V1E1J4\, Canada
ORGANIZER;CN="Mike":MAILTO:peacebuilderworld@gmail.com
END:VEVENT
END:VCALENDAR