BEGIN:VCALENDAR
VERSION:2.0
PRODID:-//Shuswap PeaceBuilders - ECPv6.15.13.1//NONSGML v1.0//EN
CALSCALE:GREGORIAN
METHOD:PUBLISH
X-ORIGINAL-URL:https://www.peacebuilders.world
X-WR-CALDESC:Events for Shuswap PeaceBuilders
REFRESH-INTERVAL;VALUE=DURATION:PT1H
X-Robots-Tag:noindex
X-PUBLISHED-TTL:PT1H
BEGIN:VTIMEZONE
TZID:America/Vancouver
BEGIN:DAYLIGHT
TZOFFSETFROM:-0800
TZOFFSETTO:-0700
TZNAME:PDT
DTSTART:20240310T100000
END:DAYLIGHT
BEGIN:STANDARD
TZOFFSETFROM:-0700
TZOFFSETTO:-0800
TZNAME:PST
DTSTART:20241103T090000
END:STANDARD
BEGIN:DAYLIGHT
TZOFFSETFROM:-0800
TZOFFSETTO:-0700
TZNAME:PDT
DTSTART:20250309T100000
END:DAYLIGHT
BEGIN:STANDARD
TZOFFSETFROM:-0700
TZOFFSETTO:-0800
TZNAME:PST
DTSTART:20251102T090000
END:STANDARD
BEGIN:DAYLIGHT
TZOFFSETFROM:-0800
TZOFFSETTO:-0700
TZNAME:PDT
DTSTART:20260308T100000
END:DAYLIGHT
BEGIN:STANDARD
TZOFFSETFROM:-0700
TZOFFSETTO:-0800
TZNAME:PST
DTSTART:20261101T090000
END:STANDARD
END:VTIMEZONE
BEGIN:VEVENT
DTSTART;TZID=America/Vancouver:20251008T170000
DTEND;TZID=America/Vancouver:20251008T180000
DTSTAMP:20260415T101805
CREATED:20251004T145651Z
LAST-MODIFIED:20251004T150347Z
UID:1911-1759942800-1759946400@www.peacebuilders.world
SUMMARY:Peace Game Information Meeting
DESCRIPTION:Join David Gershon\, architect of the Peace Game and Peace on Earth by 2030 movement\, who will share the vision and practices for achieving Peace on Earth by 2030\, and how you can participate through playing the Peace Game.
URL:https://www.peacebuilders.world/event/peace-on-earth-by-2030-peace-game-information-meeting/
LOCATION:BC
END:VEVENT
BEGIN:VEVENT
DTSTART;TZID=America/Vancouver:20251015T090000
DTEND;TZID=America/Vancouver:20251015T110000
DTSTAMP:20260415T101805
CREATED:20251004T150050Z
LAST-MODIFIED:20251004T150246Z
UID:1913-1760518800-1760526000@www.peacebuilders.world
SUMMARY:Global Online Peace Game
DESCRIPTION:Wednesday\, October 15th – Dec 10th 2025\n9am-11am  (Vancouver Time Zone) \nThe seven actions of the Peace Game — empowerment\, oneness\, unity\, cooperation\, abundance\, love and faith — are transformational practices that when collectively applied evolve a person into an emanation of peace and everything around them into manifestations of peace. They are practices which mean their impact deepens as one invests in them over time. There is also a meditation associated with each action to help internalize it. \nThe Peace Game is divided into four parts that represent the different facets of creating peace in one’s life and world. Action 1 on Empowerment focuses on capacity building\, Actions 2 to 4 on Oneness\, Unity and Cooperation focus on peace building\, Actions 5 and 6 on Abundance and Love focus on field building\, and Action 7 on Faith focuses on movement building. \nAt its essence the Peace Game is an empowerment platform enabling people to envision and create a life of peace for themselves and influence those in their world to do the same. At scale it can reweave the social fabric of a community. \nPlaying the Peace Game empowers\, enlightens and transforms those players and communities who wholeheartedly engage with it. The Peace Game is a peace intensive and requires a commitment of time\, intention and wholeheartedness to be played well. \nThe meetings are 2-hours and it takes\, on average\, 2 hours to implement the peace actions. Some actions take less time and are done during the week between meetings. Other actions take more time and are spread out over 2-3 weeks. The Peace Game App provides guidance on scheduling the requisite time needed based on the level of play you choose. The levels of play are based on the time and effort required.
URL:https://www.peacebuilders.world/event/global-online-peace-game/
LOCATION:BC
END:VEVENT
BEGIN:VEVENT
DTSTART;TZID=America/Vancouver:20251017T170000
DTEND;TZID=America/Vancouver:20251019T150000
DTSTAMP:20260415T101805
CREATED:20250925T234244Z
LAST-MODIFIED:20250925T234244Z
UID:1908-1760720400-1760886000@www.peacebuilders.world
SUMMARY:Loud & Proud - Pride Project of Salmon Arm Arts Centre
DESCRIPTION:
URL:https://www.peacebuilders.world/event/loud-proud-pride-project-of-salmon-arm-arts-centre/
LOCATION:Song Sparrow Hall\, 180 Lakeshore Dr NW\, Salmon Arm\, BC\, V1E 4N5\, Canada
END:VEVENT
BEGIN:VEVENT
DTSTART;TZID=America/Vancouver:20251017T173000
DTEND;TZID=America/Vancouver:20251017T200000
DTSTAMP:20260415T101805
CREATED:20250417T224636Z
LAST-MODIFIED:20251015T181509Z
UID:1526-1760722200-1760731200@www.peacebuilders.world
SUMMARY:Peace N Pizza with Ian Johnson October 17\, 2025
DESCRIPTION:Peace ‘n Pizza Agenda: \nCurious\, Kind\, Respect\, Listen to Deeply Understand: Welcome to Humanity \n5:30 – 6:20 Gather & Socialize & Eat Pizza\, Veggies & Salads (All diets accommodated) \n6:20 – 6:40 Introductions & World View sharing \n6:40 – 7:40 Speaker Story – World View Fireside \n7:40 – 7:55 Questions & Answers \n7:55 – 8:00 Call to Action \n8:00            Cleanup (please help) \n  \nGathering: \nUpon arrival everyone needs to find somebody they don’t already know and exchange ideas on “Peace to me is…” and an “Ideal Future” looks like for the world\, while sharing a meal together\, \nRemember be curious\, be kind\, be respectful\, listen to deeply understand. \nIf you have a question or difficulty please see a greeter wearing a greeter nametag. \nEat in the large meeting room: \n\nPizza & Veggies + Water / Tea / Coffee + Fun & Laughter\n\n\nIntroductions & World View Sharing in the Nexus: \n\nWelcome\, Introductions\, Guidelines – curious\, respect\, listen to deeply understand\nLand Acknowledgement & Blessings\nAcknowledge Sponsors\nMeditation\nParticipants are invited to the microphone to share their experience of Peace N Pizza\nExpression of gratitude.\n\nSpeaker Story – World View Fireside \nIan Johnson & Mike share world views. \nQuestions & Answers \n\nHow can we help you realize your vision of the future?\n\nCall to Action \n\nPractice what you learned here today with strangers\, friends\, & family\nUpcoming Events\nPlease help Clean Up\nBe Kind\n\nMark Your Calendar Upcoming Events \nEthiopian Dinner: October 18: Fifth Avenue Senior’s Activity Center \nPeace N Pizza: November 21st:  Colleen Making (Safe Society) \nPeace N Pizza: December 19th:  Santa Claus (Quaker)
URL:https://www.peacebuilders.world/event/peace-n-pizza-with-ian-johnson-october-17-2025/
LOCATION:First Community Nexus\, 450 Okanagan Ave SE\, Salmon Arm\, BC\, V1E1J4\, Canada
ORGANIZER;CN="Mike":MAILTO:peacebuilderworld@gmail.com
END:VEVENT
END:VCALENDAR