BEGIN:VCALENDAR
VERSION:2.0
PRODID:-//Shuswap PeaceBuilders - ECPv6.15.13.1//NONSGML v1.0//EN
CALSCALE:GREGORIAN
METHOD:PUBLISH
X-ORIGINAL-URL:https://www.peacebuilders.world
X-WR-CALDESC:Events for Shuswap PeaceBuilders
REFRESH-INTERVAL;VALUE=DURATION:PT1H
X-Robots-Tag:noindex
X-PUBLISHED-TTL:PT1H
BEGIN:VTIMEZONE
TZID:America/Halifax
BEGIN:DAYLIGHT
TZOFFSETFROM:-0400
TZOFFSETTO:-0300
TZNAME:ADT
DTSTART:20240310T060000
END:DAYLIGHT
BEGIN:STANDARD
TZOFFSETFROM:-0300
TZOFFSETTO:-0400
TZNAME:AST
DTSTART:20241103T050000
END:STANDARD
BEGIN:DAYLIGHT
TZOFFSETFROM:-0400
TZOFFSETTO:-0300
TZNAME:ADT
DTSTART:20250309T060000
END:DAYLIGHT
BEGIN:STANDARD
TZOFFSETFROM:-0300
TZOFFSETTO:-0400
TZNAME:AST
DTSTART:20251102T050000
END:STANDARD
BEGIN:DAYLIGHT
TZOFFSETFROM:-0400
TZOFFSETTO:-0300
TZNAME:ADT
DTSTART:20260308T060000
END:DAYLIGHT
BEGIN:STANDARD
TZOFFSETFROM:-0300
TZOFFSETTO:-0400
TZNAME:AST
DTSTART:20261101T050000
END:STANDARD
END:VTIMEZONE
BEGIN:VEVENT
DTSTART;TZID=America/Halifax:20250117T173000
DTEND;TZID=America/Halifax:20250117T200000
DTSTAMP:20260421T224349
CREATED:20241209T173614Z
LAST-MODIFIED:20241210T212135Z
UID:1164-1737135000-1737144000@www.peacebuilders.world
SUMMARY:Peace N Pizza with Alan Harrison January 17\, 2025
DESCRIPTION:Peace ‘n Pizza Agenda: \nCurious\, Kind\, Respect\, Listen to Deeply Understand: Welcome to Humanity \n5:30 – 6:20 Gather & Socialize & Eat Pizza\, Veggies & Salads (All diets accommodated) \n6:20 – 6:40 Introductions & World View sharing \n6:40 – 7:40 Speaker Story – World View Fireside \n7:40 – 7:55 Questions & Answers \n7:55 – 8:00 Call to Action \n8:00            Cleanup (please help) \n  \nGathering: \nUpon arrival everyone needs to find somebody they don’t already know and exchange ideas on what an “Ideal Future” looks like for the world\, while sharing a meal together\, \nRemember be curious\, be kind\, be respectful\, listen to deeply understand. \nIf you have a question or difficulty please see a greeter wearing a greeter nametag. \nEat in the large meeting room: \n\nPizza & Veggies + Water / Tea / Coffee + Fun & Laughter\n\n\nIntroductions & World View Sharing in the Nexus: \n\nWelcome\, Introductions\, Guidelines – curious\, respect\, listen to deeply understand\nLand Acknowledgement & Blessings\nAcknowledge Sponsors\nMeditation\nParticipants are invited to the microphone to share their experience of Peace N Pizza\nExpression of gratitude.\n\nSpeaker Story – World View Fireside \n\nAlan Harrison & Mike share world views.\n\nQuestions & Answers \n\nHow can we help you realize your vision of the future?\n\nCall to Action \n\nPractice what you learned here today with strangers\, friends\, & family\nUpcoming Events\nPlease help Clean Up\nBe Kind\n\nMark Your Calendar Upcoming Events \nPeace N Pizza February 21\, 2025 – W0inshet Bayssie
URL:https://www.peacebuilders.world/event/peace-n-pizza-with-alan-harrison-january-17-2025/
LOCATION:First Community Nexus\, 450 Okanagan Ave SE\, Salmon Arm\, BC\, V1E1J4\, Canada
ORGANIZER;CN="Mike":MAILTO:peacebuilderworld@gmail.com
END:VEVENT
END:VCALENDAR