BEGIN:VCALENDAR
VERSION:2.0
PRODID:-//Shuswap PeaceBuilders - ECPv6.15.13.1//NONSGML v1.0//EN
CALSCALE:GREGORIAN
METHOD:PUBLISH
X-WR-CALNAME:Shuswap PeaceBuilders
X-ORIGINAL-URL:https://www.peacebuilders.world
X-WR-CALDESC:Events for Shuswap PeaceBuilders
REFRESH-INTERVAL;VALUE=DURATION:PT1H
X-Robots-Tag:noindex
X-PUBLISHED-TTL:PT1H
BEGIN:VTIMEZONE
TZID:America/Vancouver
BEGIN:DAYLIGHT
TZOFFSETFROM:-0800
TZOFFSETTO:-0700
TZNAME:PDT
DTSTART:20250309T100000
END:DAYLIGHT
BEGIN:STANDARD
TZOFFSETFROM:-0700
TZOFFSETTO:-0800
TZNAME:PST
DTSTART:20251102T090000
END:STANDARD
BEGIN:DAYLIGHT
TZOFFSETFROM:-0800
TZOFFSETTO:-0700
TZNAME:PDT
DTSTART:20260308T100000
END:DAYLIGHT
BEGIN:STANDARD
TZOFFSETFROM:-0700
TZOFFSETTO:-0800
TZNAME:PST
DTSTART:20261101T090000
END:STANDARD
BEGIN:DAYLIGHT
TZOFFSETFROM:-0800
TZOFFSETTO:-0700
TZNAME:PDT
DTSTART:20270314T100000
END:DAYLIGHT
BEGIN:STANDARD
TZOFFSETFROM:-0700
TZOFFSETTO:-0800
TZNAME:PST
DTSTART:20271107T090000
END:STANDARD
END:VTIMEZONE
BEGIN:VEVENT
DTSTART;VALUE=DATE:20261030
DTEND;VALUE=DATE:20261102
DTSTAMP:20260419T192952
CREATED:20250306T191937Z
LAST-MODIFIED:20260401T210453Z
UID:1270-1793318400-1793577599@www.peacebuilders.world
SUMMARY:Grassroots Harmony Action Project
DESCRIPTION:Grassroots Harmony Action Project 2026\n\nTake Action\nHelp build better community\naround one or more of these topics:\n_\n Homelessness (EDSI)\,\n Food Insecurity\,\n Mental Health & Addiction\,\n All My Relations (Indigenous Reconciliation)\,\nEnergy\, Jobs and Environment\,\n Sexual Identity\,\n Immigration & Racism\,\n Children & Youth\n_\nYour point of view is important\nLet’s start by moving forward together.\nJoin us\nPeace Builders Gathering – September 19th\nGrass Roots Harmony Action Development – ongoing\n\n\n  \nImagine our community in harmony where everyone feels that they belong\, with purpose and meaning\, helping each other while embracing our differences and recognizing each persons unique contribution and worth.  Our problems challenge us to understand others deeply and inspire others in the process.  Each of our stories matter and are part of the fabric of our community. \nJoin a team of citizens and work with a trained facilitator on your topic of interest to come up with ideas on how to improve situations\, and action plans going forward for our community. \nThe Bridge Institute methods grown over two decades shows us step by step how to grow to our full community potential.   \nCan you positively impact community harmony by stepping up?   \nPlease Join Us\, everyone and all opinions are welcome. \nSponsorship is available for those of limited means. \nDiscussion Facilitators/Leaders/Champions: \n\nIndigenous Reconciliation\, Kenthen Thomas (kenthen@rootsandblues.ca)\, Rena Novotny\, Jim Ellis\nImmigration & Racism\,\nMental Health & Addiction\,\nEcology\, Climate and Environment\nHomelessness\, Dan Meakes (singing.salsa.dan@outlook.com)\nFood Insecurity\,\nSexual Identity\,\nChildren & Youth (Julie & Sajee)\n\nResources\nAdditional Program Details \nVideo of Community Building Event to address Human Trafficking using the Breakthrough Process \nSponsorship Opportunities\nWant to help make this a success with either volunteer\, financial\, or other forms of support please contact us at peacebuilderworld@gmail.com. \nContact\nFor more info call Mike 250-833-6158
URL:https://www.peacebuilders.world/event/communityharmony/
LOCATION:First Community Nexus\, 450 Okanagan Ave SE\, Salmon Arm\, BC\, V1E1J4\, Canada
ORGANIZER;CN="Mike":MAILTO:peacebuilderworld@gmail.com
END:VEVENT
END:VCALENDAR