BEGIN:VCALENDAR
VERSION:2.0
PRODID:-//Shuswap PeaceBuilders - ECPv6.15.13.1//NONSGML v1.0//EN
CALSCALE:GREGORIAN
METHOD:PUBLISH
X-ORIGINAL-URL:https://www.peacebuilders.world
X-WR-CALDESC:Events for Shuswap PeaceBuilders
REFRESH-INTERVAL;VALUE=DURATION:PT1H
X-Robots-Tag:noindex
X-PUBLISHED-TTL:PT1H
BEGIN:VTIMEZONE
TZID:America/Vancouver
BEGIN:DAYLIGHT
TZOFFSETFROM:-0800
TZOFFSETTO:-0700
TZNAME:PDT
DTSTART:20240310T100000
END:DAYLIGHT
BEGIN:STANDARD
TZOFFSETFROM:-0700
TZOFFSETTO:-0800
TZNAME:PST
DTSTART:20241103T090000
END:STANDARD
BEGIN:DAYLIGHT
TZOFFSETFROM:-0800
TZOFFSETTO:-0700
TZNAME:PDT
DTSTART:20250309T100000
END:DAYLIGHT
BEGIN:STANDARD
TZOFFSETFROM:-0700
TZOFFSETTO:-0800
TZNAME:PST
DTSTART:20251102T090000
END:STANDARD
BEGIN:DAYLIGHT
TZOFFSETFROM:-0800
TZOFFSETTO:-0700
TZNAME:PDT
DTSTART:20260308T100000
END:DAYLIGHT
BEGIN:STANDARD
TZOFFSETFROM:-0700
TZOFFSETTO:-0800
TZNAME:PST
DTSTART:20261101T090000
END:STANDARD
END:VTIMEZONE
BEGIN:VEVENT
DTSTART;VALUE=DATE:20250920
DTEND;VALUE=DATE:20250921
DTSTAMP:20260420T095354
CREATED:20250211T175714Z
LAST-MODIFIED:20250912T131820Z
UID:1229-1758326400-1758412799@www.peacebuilders.world
SUMMARY:Peace Builder Gathering - be a PeaceMaker
DESCRIPTION:The Spiral Breakthrough method of Peace Transformation will be shared through fun story telling and team activities facilitated by Mac Mackenzie of the Bridge Institute\, a UK non-profit that facilitates peace building in some of the most challenging conflict zones of the world. \nProgramme\n8:30 Registration – welcome\, registration folder pickup\, viewing of peace-oriented community booths along the walls of the main floor \n9:00 Splatsin Community Welcome \n9:15 MCs Welcome and acknowledgement\, orientation to the purpose and spirit of the day\, introduction of Mac McKenzie \n9:30 An Introduction to the Spiral Breakthrough \n9:45 Peacebuilding Leadership Skills \n\nPersonal Resourcefulness\nTaking People with You\n\n11:00 Refreshment Break \n11:15 Peacebuilding Leadership Skills \n\nTaking People with You (continued)\n\n12:15 Lunch (no charge/catered by First Community) –lunch\, conversation\, viewing of community booths; \n12:45 Secwepemc story telling: Kenthen Thomas \n1:30 The Spiral Breakthrough \n\nIdentifying the Systemic Challenges\nBuilding Coalitions\n\n3:00 Refreshment Break/musical performance – Kampana Bells \n3:30 Peacebuilding Leadership Skills \n\nSocietal Leadership\nVisionary Leadership\nMy Commitments\n\n4:30 Concluding Remarks to end the gathering \nAdditional Program Information \nFamily Programme for kids of all ages\n \n\nVal Hiliker – Puppeteer Ventriliquist\nPeace Bubbles\nPeace Art Projects\nVirtues Project\n\nCommunity Service Organizations\nCommunity Service Organizations that work enhance Positive Peace or Harmony in our communites are invited to present their table top information booths.  For guidelines\, orientation\, and registration please complete the Community Service Organization Registration form Here. \nSponsorship Opportunities\nWant to help make this a success with either volunteer\, financial\, or other forms of support please contact us at peacebuilderworld@gmail.com. \n  \nFor more info call Mike 250-833-6158
URL:https://www.peacebuilders.world/event/peacearchitect/
LOCATION:Splatsin Community Centre\, 5767 Old Vernon Road\, Enderby\, BC\, V0E1V0\, Canada
ORGANIZER;CN="Garrett Brisdon":MAILTO:peacebuilderworld@gmail.com
END:VEVENT
END:VCALENDAR