BEGIN:VCALENDAR
VERSION:2.0
PRODID:-//Shuswap PeaceBuilders - ECPv6.15.13.1//NONSGML v1.0//EN
CALSCALE:GREGORIAN
METHOD:PUBLISH
X-WR-CALNAME:Shuswap PeaceBuilders
X-ORIGINAL-URL:https://www.peacebuilders.world
X-WR-CALDESC:Events for Shuswap PeaceBuilders
REFRESH-INTERVAL;VALUE=DURATION:PT1H
X-Robots-Tag:noindex
X-PUBLISHED-TTL:PT1H
BEGIN:VTIMEZONE
TZID:America/Vancouver
BEGIN:DAYLIGHT
TZOFFSETFROM:-0800
TZOFFSETTO:-0700
TZNAME:PDT
DTSTART:20240310T100000
END:DAYLIGHT
BEGIN:STANDARD
TZOFFSETFROM:-0700
TZOFFSETTO:-0800
TZNAME:PST
DTSTART:20241103T090000
END:STANDARD
BEGIN:DAYLIGHT
TZOFFSETFROM:-0800
TZOFFSETTO:-0700
TZNAME:PDT
DTSTART:20250309T100000
END:DAYLIGHT
BEGIN:STANDARD
TZOFFSETFROM:-0700
TZOFFSETTO:-0800
TZNAME:PST
DTSTART:20251102T090000
END:STANDARD
BEGIN:DAYLIGHT
TZOFFSETFROM:-0800
TZOFFSETTO:-0700
TZNAME:PDT
DTSTART:20260308T100000
END:DAYLIGHT
BEGIN:STANDARD
TZOFFSETFROM:-0700
TZOFFSETTO:-0800
TZNAME:PST
DTSTART:20261101T090000
END:STANDARD
END:VTIMEZONE
BEGIN:VEVENT
DTSTART;TZID=America/Vancouver:20250524T130000
DTEND;TZID=America/Vancouver:20250524T150000
DTSTAMP:20260421T175047
CREATED:20250501T184612Z
LAST-MODIFIED:20250501T184612Z
UID:1549-1748091600-1748098800@www.peacebuilders.world
SUMMARY:AN INVITION TO THE PALESTINIAN LAND EXERCISE
DESCRIPTION:IT DIDN’T’ START ON OCTOBER 7TH. \nThe Palestinian Land Exercise is a participatory exercise that traces the history of Palestinian-Israeli relations using the format of the Kairos Blanket Exercise\, (looking at the effects of colonization in Canada). In the exercise\, we will take on the role of the Palestinians and actively experience some of the major events that have happened since the end of the 19th Century in Palestine and Israel. \nThe exercise might challenge your beliefs about the situation in Palestine and Israel. \nCome with an open mind and heart to hear stories of people directly affected in the Palestinian context. \nThe play will be followed by a sharing circle where all are invited to respond and reflect on what we have learned. The event concludes with a discussion of steps you might take to promote an end to the occupation and to work for Justice for ALL citizens of Palestine and Israel. \nSpaces are limited to 25 people and pre-registration is required. Register by scanning the QR code on the poster\, or by going to https://forms.gle/AuPyAgqkDYDnWkvH6 \nQuestions? Contact Juanita Austin at revjuanita@gmail.com or ph: 250-515-0210
URL:https://www.peacebuilders.world/event/an-invition-to-the-palestinian-land-exercise/
LOCATION:Deo Lutheran Church\, 1801 30th St.\, Salmon Arm\, BC\, Canada
END:VEVENT
END:VCALENDAR