BEGIN:VCALENDAR
VERSION:2.0
PRODID:-//Shuswap PeaceBuilders - ECPv6.15.13.1//NONSGML v1.0//EN
CALSCALE:GREGORIAN
METHOD:PUBLISH
X-WR-CALNAME:Shuswap PeaceBuilders
X-ORIGINAL-URL:https://www.peacebuilders.world
X-WR-CALDESC:Events for Shuswap PeaceBuilders
REFRESH-INTERVAL;VALUE=DURATION:PT1H
X-Robots-Tag:noindex
X-PUBLISHED-TTL:PT1H
BEGIN:VTIMEZONE
TZID:America/Halifax
BEGIN:DAYLIGHT
TZOFFSETFROM:-0400
TZOFFSETTO:-0300
TZNAME:ADT
DTSTART:20240310T060000
END:DAYLIGHT
BEGIN:STANDARD
TZOFFSETFROM:-0300
TZOFFSETTO:-0400
TZNAME:AST
DTSTART:20241103T050000
END:STANDARD
BEGIN:DAYLIGHT
TZOFFSETFROM:-0400
TZOFFSETTO:-0300
TZNAME:ADT
DTSTART:20250309T060000
END:DAYLIGHT
BEGIN:STANDARD
TZOFFSETFROM:-0300
TZOFFSETTO:-0400
TZNAME:AST
DTSTART:20251102T050000
END:STANDARD
BEGIN:DAYLIGHT
TZOFFSETFROM:-0400
TZOFFSETTO:-0300
TZNAME:ADT
DTSTART:20260308T060000
END:DAYLIGHT
BEGIN:STANDARD
TZOFFSETFROM:-0300
TZOFFSETTO:-0400
TZNAME:AST
DTSTART:20261101T050000
END:STANDARD
END:VTIMEZONE
BEGIN:VEVENT
DTSTART;TZID=America/Halifax:20250414T080000
DTEND;TZID=America/Halifax:20250516T170000
DTSTAMP:20260421T193056
CREATED:20250310T164853Z
LAST-MODIFIED:20250310T194014Z
UID:1291-1744617600-1747414800@www.peacebuilders.world
SUMMARY:Peace Literacy - Navigating Aggression
DESCRIPTION:For 50% discount on this amazing course register for event ticket or contact mike at peacebuilderworld@gmail.com. \nRegister Here
URL:https://www.peacebuilders.world/event/navigating-aggression/
LOCATION:Online\, Online
ORGANIZER;CN="Mike":MAILTO:peacebuilderworld@gmail.com
END:VEVENT
END:VCALENDAR